BEGIN:VCALENDAR
VERSION:2.0
PRODID:-//Currumbin RSL - ECPv5.4.0//NONSGML v1.0//EN
CALSCALE:GREGORIAN
METHOD:PUBLISH
X-WR-CALNAME:Currumbin RSL
X-ORIGINAL-URL:https://www.currumbinrsl.com.au
X-WR-CALDESC:Events for Currumbin RSL
BEGIN:VTIMEZONE
TZID:Australia/Brisbane
BEGIN:STANDARD
TZOFFSETFROM:+1000
TZOFFSETTO:+1000
TZNAME:AEST
DTSTART:20210101T000000
END:STANDARD
END:VTIMEZONE
BEGIN:VEVENT
DTSTART;TZID=Australia/Brisbane:20220126T110000
DTEND;TZID=Australia/Brisbane:20220126T133000
DTSTAMP:20210228T161044
CREATED:20210221T233156Z
LAST-MODIFIED:20210228T022805Z
UID:19081-1643194800-1643203800@www.currumbinrsl.com.au
SUMMARY:Wednesday BINGO at Currumbin RSL
DESCRIPTION:BINGO at Currumbin RSL.\nWe now have three sessions: \n1. Monday eyes down at 11am\n2. Tuesday eyes down at 7pm\n3. Wednesday eyes down at 11am \nFor more information and current jackpots head to our website.
URL:https://www.currumbinrsl.com.au/event/wednesday-bingo-at-currumbin-rsl/
ATTACH;FMTTYPE=image/jpeg:https://www.currumbinrsl.com.au/wp-content/uploads/2021/02/19081_image_152843944_5162072853835318_1686135413566719692_o.jpg
END:VEVENT
BEGIN:VEVENT
DTSTART;TZID=Australia/Brisbane:20220119T110000
DTEND;TZID=Australia/Brisbane:20220119T133000
DTSTAMP:20210228T161045
CREATED:20210221T233156Z
LAST-MODIFIED:20210228T022805Z
UID:19083-1642590000-1642599000@www.currumbinrsl.com.au
SUMMARY:Wednesday BINGO at Currumbin RSL
DESCRIPTION:BINGO at Currumbin RSL.\nWe now have three sessions: \n1. Monday eyes down at 11am\n2. Tuesday eyes down at 7pm\n3. Wednesday eyes down at 11am \nFor more information and current jackpots head to our website.
URL:https://www.currumbinrsl.com.au/event/wednesday-bingo-at-currumbin-rsl-2/
ATTACH;FMTTYPE=image/jpeg:https://www.currumbinrsl.com.au/wp-content/uploads/2021/02/19083_image_152843944_5162072853835318_1686135413566719692_o.jpg
END:VEVENT
BEGIN:VEVENT
DTSTART;TZID=Australia/Brisbane:20220112T110000
DTEND;TZID=Australia/Brisbane:20220112T133000
DTSTAMP:20210228T161045
CREATED:20210221T233157Z
LAST-MODIFIED:20210228T022805Z
UID:19084-1641985200-1641994200@www.currumbinrsl.com.au
SUMMARY:Wednesday BINGO at Currumbin RSL
DESCRIPTION:BINGO at Currumbin RSL.\nWe now have three sessions: \n1. Monday eyes down at 11am\n2. Tuesday eyes down at 7pm\n3. Wednesday eyes down at 11am \nFor more information and current jackpots head to our website.
URL:https://www.currumbinrsl.com.au/event/wednesday-bingo-at-currumbin-rsl-3/
ATTACH;FMTTYPE=image/jpeg:https://www.currumbinrsl.com.au/wp-content/uploads/2021/02/19084_image_152843944_5162072853835318_1686135413566719692_o.jpg
END:VEVENT
BEGIN:VEVENT
DTSTART;TZID=Australia/Brisbane:20220105T110000
DTEND;TZID=Australia/Brisbane:20220105T133000
DTSTAMP:20210228T161045
CREATED:20210221T233157Z
LAST-MODIFIED:20210228T022805Z
UID:19085-1641380400-1641389400@www.currumbinrsl.com.au
SUMMARY:Wednesday BINGO at Currumbin RSL
DESCRIPTION:BINGO at Currumbin RSL.\nWe now have three sessions: \n1. Monday eyes down at 11am\n2. Tuesday eyes down at 7pm\n3. Wednesday eyes down at 11am \nFor more information and current jackpots head to our website.
URL:https://www.currumbinrsl.com.au/event/wednesday-bingo-at-currumbin-rsl-4/
ATTACH;FMTTYPE=image/jpeg:https://www.currumbinrsl.com.au/wp-content/uploads/2021/02/19085_image_152843944_5162072853835318_1686135413566719692_o.jpg
END:VEVENT
BEGIN:VEVENT
DTSTART;TZID=Australia/Brisbane:20211229T110000
DTEND;TZID=Australia/Brisbane:20211229T133000
DTSTAMP:20210228T161045
CREATED:20210221T233157Z
LAST-MODIFIED:20210228T022805Z
UID:19086-1640775600-1640784600@www.currumbinrsl.com.au
SUMMARY:Wednesday BINGO at Currumbin RSL
DESCRIPTION:BINGO at Currumbin RSL.\nWe now have three sessions: \n1. Monday eyes down at 11am\n2. Tuesday eyes down at 7pm\n3. Wednesday eyes down at 11am \nFor more information and current jackpots head to our website.
URL:https://www.currumbinrsl.com.au/event/wednesday-bingo-at-currumbin-rsl-5/
ATTACH;FMTTYPE=image/jpeg:https://www.currumbinrsl.com.au/wp-content/uploads/2021/02/19085_image_152843944_5162072853835318_1686135413566719692_o.jpg
END:VEVENT
BEGIN:VEVENT
DTSTART;TZID=Australia/Brisbane:20211222T110000
DTEND;TZID=Australia/Brisbane:20211222T133000
DTSTAMP:20210228T161045
CREATED:20210221T233157Z
LAST-MODIFIED:20210228T022806Z
UID:19087-1640170800-1640179800@www.currumbinrsl.com.au
SUMMARY:Wednesday BINGO at Currumbin RSL
DESCRIPTION:BINGO at Currumbin RSL.\nWe now have three sessions: \n1. Monday eyes down at 11am\n2. Tuesday eyes down at 7pm\n3. Wednesday eyes down at 11am \nFor more information and current jackpots head to our website.
URL:https://www.currumbinrsl.com.au/event/wednesday-bingo-at-currumbin-rsl-6/
ATTACH;FMTTYPE=image/jpeg:https://www.currumbinrsl.com.au/wp-content/uploads/2021/02/19085_image_152843944_5162072853835318_1686135413566719692_o.jpg
END:VEVENT
BEGIN:VEVENT
DTSTART;TZID=Australia/Brisbane:20211215T110000
DTEND;TZID=Australia/Brisbane:20211215T133000
DTSTAMP:20210228T161045
CREATED:20210221T233157Z
LAST-MODIFIED:20210228T022806Z
UID:19088-1639566000-1639575000@www.currumbinrsl.com.au
SUMMARY:Wednesday BINGO at Currumbin RSL
DESCRIPTION:BINGO at Currumbin RSL.\nWe now have three sessions: \n1. Monday eyes down at 11am\n2. Tuesday eyes down at 7pm\n3. Wednesday eyes down at 11am \nFor more information and current jackpots head to our website.
URL:https://www.currumbinrsl.com.au/event/wednesday-bingo-at-currumbin-rsl-7/
ATTACH;FMTTYPE=image/jpeg:https://www.currumbinrsl.com.au/wp-content/uploads/2021/02/19085_image_152843944_5162072853835318_1686135413566719692_o.jpg
END:VEVENT
BEGIN:VEVENT
DTSTART;TZID=Australia/Brisbane:20211208T110000
DTEND;TZID=Australia/Brisbane:20211208T133000
DTSTAMP:20210228T161045
CREATED:20210221T233157Z
LAST-MODIFIED:20210228T022806Z
UID:19089-1638961200-1638970200@www.currumbinrsl.com.au
SUMMARY:Wednesday BINGO at Currumbin RSL
DESCRIPTION:BINGO at Currumbin RSL.\nWe now have three sessions: \n1. Monday eyes down at 11am\n2. Tuesday eyes down at 7pm\n3. Wednesday eyes down at 11am \nFor more information and current jackpots head to our website.
URL:https://www.currumbinrsl.com.au/event/wednesday-bingo-at-currumbin-rsl-8/
ATTACH;FMTTYPE=image/jpeg:https://www.currumbinrsl.com.au/wp-content/uploads/2021/02/19085_image_152843944_5162072853835318_1686135413566719692_o.jpg
END:VEVENT
BEGIN:VEVENT
DTSTART;TZID=Australia/Brisbane:20211201T110000
DTEND;TZID=Australia/Brisbane:20211201T133000
DTSTAMP:20210228T161045
CREATED:20210221T233157Z
LAST-MODIFIED:20210228T022806Z
UID:19090-1638356400-1638365400@www.currumbinrsl.com.au
SUMMARY:Wednesday BINGO at Currumbin RSL
DESCRIPTION:BINGO at Currumbin RSL.\nWe now have three sessions: \n1. Monday eyes down at 11am\n2. Tuesday eyes down at 7pm\n3. Wednesday eyes down at 11am \nFor more information and current jackpots head to our website.
URL:https://www.currumbinrsl.com.au/event/wednesday-bingo-at-currumbin-rsl-9/
ATTACH;FMTTYPE=image/jpeg:https://www.currumbinrsl.com.au/wp-content/uploads/2021/02/19085_image_152843944_5162072853835318_1686135413566719692_o.jpg
END:VEVENT
BEGIN:VEVENT
DTSTART;TZID=Australia/Brisbane:20211124T110000
DTEND;TZID=Australia/Brisbane:20211124T133000
DTSTAMP:20210228T161045
CREATED:20210221T233157Z
LAST-MODIFIED:20210228T022806Z
UID:19091-1637751600-1637760600@www.currumbinrsl.com.au
SUMMARY:Wednesday BINGO at Currumbin RSL
DESCRIPTION:BINGO at Currumbin RSL.\nWe now have three sessions: \n1. Monday eyes down at 11am\n2. Tuesday eyes down at 7pm\n3. Wednesday eyes down at 11am \nFor more information and current jackpots head to our website.
URL:https://www.currumbinrsl.com.au/event/wednesday-bingo-at-currumbin-rsl-10/
ATTACH;FMTTYPE=image/jpeg:https://www.currumbinrsl.com.au/wp-content/uploads/2021/02/19085_image_152843944_5162072853835318_1686135413566719692_o.jpg
END:VEVENT
BEGIN:VEVENT
DTSTART;TZID=Australia/Brisbane:20211117T110000
DTEND;TZID=Australia/Brisbane:20211117T133000
DTSTAMP:20210228T161045
CREATED:20210221T233158Z
LAST-MODIFIED:20210228T022806Z
UID:19092-1637146800-1637155800@www.currumbinrsl.com.au
SUMMARY:Wednesday BINGO at Currumbin RSL
DESCRIPTION:BINGO at Currumbin RSL.\nWe now have three sessions: \n1. Monday eyes down at 11am\n2. Tuesday eyes down at 7pm\n3. Wednesday eyes down at 11am \nFor more information and current jackpots head to our website.
URL:https://www.currumbinrsl.com.au/event/wednesday-bingo-at-currumbin-rsl-11/
ATTACH;FMTTYPE=image/jpeg:https://www.currumbinrsl.com.au/wp-content/uploads/2021/02/19085_image_152843944_5162072853835318_1686135413566719692_o.jpg
END:VEVENT
BEGIN:VEVENT
DTSTART;TZID=Australia/Brisbane:20211110T110000
DTEND;TZID=Australia/Brisbane:20211110T133000
DTSTAMP:20210228T161045
CREATED:20210221T233158Z
LAST-MODIFIED:20210228T022806Z
UID:19093-1636542000-1636551000@www.currumbinrsl.com.au
SUMMARY:Wednesday BINGO at Currumbin RSL
DESCRIPTION:BINGO at Currumbin RSL.\nWe now have three sessions: \n1. Monday eyes down at 11am\n2. Tuesday eyes down at 7pm\n3. Wednesday eyes down at 11am \nFor more information and current jackpots head to our website.
URL:https://www.currumbinrsl.com.au/event/wednesday-bingo-at-currumbin-rsl-12/
ATTACH;FMTTYPE=image/jpeg:https://www.currumbinrsl.com.au/wp-content/uploads/2021/02/19085_image_152843944_5162072853835318_1686135413566719692_o.jpg
END:VEVENT
BEGIN:VEVENT
DTSTART;TZID=Australia/Brisbane:20211103T110000
DTEND;TZID=Australia/Brisbane:20211103T133000
DTSTAMP:20210228T161045
CREATED:20210221T233158Z
LAST-MODIFIED:20210228T022806Z
UID:19094-1635937200-1635946200@www.currumbinrsl.com.au
SUMMARY:Wednesday BINGO at Currumbin RSL
DESCRIPTION:BINGO at Currumbin RSL.\nWe now have three sessions: \n1. Monday eyes down at 11am\n2. Tuesday eyes down at 7pm\n3. Wednesday eyes down at 11am \nFor more information and current jackpots head to our website.
URL:https://www.currumbinrsl.com.au/event/wednesday-bingo-at-currumbin-rsl-13/
ATTACH;FMTTYPE=image/jpeg:https://www.currumbinrsl.com.au/wp-content/uploads/2021/02/19085_image_152843944_5162072853835318_1686135413566719692_o.jpg
END:VEVENT
BEGIN:VEVENT
DTSTART;TZID=Australia/Brisbane:20211027T110000
DTEND;TZID=Australia/Brisbane:20211027T133000
DTSTAMP:20210228T161045
CREATED:20210221T233158Z
LAST-MODIFIED:20210228T022806Z
UID:19095-1635332400-1635341400@www.currumbinrsl.com.au
SUMMARY:Wednesday BINGO at Currumbin RSL
DESCRIPTION:BINGO at Currumbin RSL.\nWe now have three sessions: \n1. Monday eyes down at 11am\n2. Tuesday eyes down at 7pm\n3. Wednesday eyes down at 11am \nFor more information and current jackpots head to our website.
URL:https://www.currumbinrsl.com.au/event/wednesday-bingo-at-currumbin-rsl-14/
ATTACH;FMTTYPE=image/jpeg:https://www.currumbinrsl.com.au/wp-content/uploads/2021/02/19085_image_152843944_5162072853835318_1686135413566719692_o.jpg
END:VEVENT
BEGIN:VEVENT
DTSTART;TZID=Australia/Brisbane:20211020T110000
DTEND;TZID=Australia/Brisbane:20211020T133000
DTSTAMP:20210228T161045
CREATED:20210221T233158Z
LAST-MODIFIED:20210228T022806Z
UID:19096-1634727600-1634736600@www.currumbinrsl.com.au
SUMMARY:Wednesday BINGO at Currumbin RSL
DESCRIPTION:BINGO at Currumbin RSL.\nWe now have three sessions: \n1. Monday eyes down at 11am\n2. Tuesday eyes down at 7pm\n3. Wednesday eyes down at 11am \nFor more information and current jackpots head to our website.
URL:https://www.currumbinrsl.com.au/event/wednesday-bingo-at-currumbin-rsl-15/
ATTACH;FMTTYPE=image/jpeg:https://www.currumbinrsl.com.au/wp-content/uploads/2021/02/19085_image_152843944_5162072853835318_1686135413566719692_o.jpg
END:VEVENT
BEGIN:VEVENT
DTSTART;TZID=Australia/Brisbane:20211013T110000
DTEND;TZID=Australia/Brisbane:20211013T133000
DTSTAMP:20210228T161045
CREATED:20210221T233158Z
LAST-MODIFIED:20210228T022806Z
UID:19097-1634122800-1634131800@www.currumbinrsl.com.au
SUMMARY:Wednesday BINGO at Currumbin RSL
DESCRIPTION:BINGO at Currumbin RSL.\nWe now have three sessions: \n1. Monday eyes down at 11am\n2. Tuesday eyes down at 7pm\n3. Wednesday eyes down at 11am \nFor more information and current jackpots head to our website.
URL:https://www.currumbinrsl.com.au/event/wednesday-bingo-at-currumbin-rsl-16/
ATTACH;FMTTYPE=image/jpeg:https://www.currumbinrsl.com.au/wp-content/uploads/2021/02/19085_image_152843944_5162072853835318_1686135413566719692_o.jpg
END:VEVENT
BEGIN:VEVENT
DTSTART;TZID=Australia/Brisbane:20211006T110000
DTEND;TZID=Australia/Brisbane:20211006T133000
DTSTAMP:20210228T161045
CREATED:20210221T233158Z
LAST-MODIFIED:20210228T022806Z
UID:19098-1633518000-1633527000@www.currumbinrsl.com.au
SUMMARY:Wednesday BINGO at Currumbin RSL
DESCRIPTION:BINGO at Currumbin RSL.\nWe now have three sessions: \n1. Monday eyes down at 11am\n2. Tuesday eyes down at 7pm\n3. Wednesday eyes down at 11am \nFor more information and current jackpots head to our website.
URL:https://www.currumbinrsl.com.au/event/wednesday-bingo-at-currumbin-rsl-17/
ATTACH;FMTTYPE=image/jpeg:https://www.currumbinrsl.com.au/wp-content/uploads/2021/02/19085_image_152843944_5162072853835318_1686135413566719692_o.jpg
END:VEVENT
BEGIN:VEVENT
DTSTART;TZID=Australia/Brisbane:20210929T110000
DTEND;TZID=Australia/Brisbane:20210929T133000
DTSTAMP:20210228T161045
CREATED:20210221T233158Z
LAST-MODIFIED:20210228T022806Z
UID:19099-1632913200-1632922200@www.currumbinrsl.com.au
SUMMARY:Wednesday BINGO at Currumbin RSL
DESCRIPTION:BINGO at Currumbin RSL.\nWe now have three sessions: \n1. Monday eyes down at 11am\n2. Tuesday eyes down at 7pm\n3. Wednesday eyes down at 11am \nFor more information and current jackpots head to our website.
URL:https://www.currumbinrsl.com.au/event/wednesday-bingo-at-currumbin-rsl-18/
ATTACH;FMTTYPE=image/jpeg:https://www.currumbinrsl.com.au/wp-content/uploads/2021/02/19085_image_152843944_5162072853835318_1686135413566719692_o.jpg
END:VEVENT
BEGIN:VEVENT
DTSTART;TZID=Australia/Brisbane:20210922T110000
DTEND;TZID=Australia/Brisbane:20210922T133000
DTSTAMP:20210228T161045
CREATED:20210221T233159Z
LAST-MODIFIED:20210228T022807Z
UID:19100-1632308400-1632317400@www.currumbinrsl.com.au
SUMMARY:Wednesday BINGO at Currumbin RSL
DESCRIPTION:BINGO at Currumbin RSL.\nWe now have three sessions: \n1. Monday eyes down at 11am\n2. Tuesday eyes down at 7pm\n3. Wednesday eyes down at 11am \nFor more information and current jackpots head to our website.
URL:https://www.currumbinrsl.com.au/event/wednesday-bingo-at-currumbin-rsl-19/
ATTACH;FMTTYPE=image/jpeg:https://www.currumbinrsl.com.au/wp-content/uploads/2021/02/19085_image_152843944_5162072853835318_1686135413566719692_o.jpg
END:VEVENT
BEGIN:VEVENT
DTSTART;TZID=Australia/Brisbane:20210915T110000
DTEND;TZID=Australia/Brisbane:20210915T133000
DTSTAMP:20210228T161045
CREATED:20210221T233159Z
LAST-MODIFIED:20210228T022807Z
UID:19101-1631703600-1631712600@www.currumbinrsl.com.au
SUMMARY:Wednesday BINGO at Currumbin RSL
DESCRIPTION:BINGO at Currumbin RSL.\nWe now have three sessions: \n1. Monday eyes down at 11am\n2. Tuesday eyes down at 7pm\n3. Wednesday eyes down at 11am \nFor more information and current jackpots head to our website.
URL:https://www.currumbinrsl.com.au/event/wednesday-bingo-at-currumbin-rsl-20/
ATTACH;FMTTYPE=image/jpeg:https://www.currumbinrsl.com.au/wp-content/uploads/2021/02/19085_image_152843944_5162072853835318_1686135413566719692_o.jpg
END:VEVENT
BEGIN:VEVENT
DTSTART;TZID=Australia/Brisbane:20210908T110000
DTEND;TZID=Australia/Brisbane:20210908T133000
DTSTAMP:20210228T161045
CREATED:20210221T233159Z
LAST-MODIFIED:20210228T022807Z
UID:19102-1631098800-1631107800@www.currumbinrsl.com.au
SUMMARY:Wednesday BINGO at Currumbin RSL
DESCRIPTION:BINGO at Currumbin RSL.\nWe now have three sessions: \n1. Monday eyes down at 11am\n2. Tuesday eyes down at 7pm\n3. Wednesday eyes down at 11am \nFor more information and current jackpots head to our website.
URL:https://www.currumbinrsl.com.au/event/wednesday-bingo-at-currumbin-rsl-21/
ATTACH;FMTTYPE=image/jpeg:https://www.currumbinrsl.com.au/wp-content/uploads/2021/02/19085_image_152843944_5162072853835318_1686135413566719692_o.jpg
END:VEVENT
BEGIN:VEVENT
DTSTART;TZID=Australia/Brisbane:20210901T110000
DTEND;TZID=Australia/Brisbane:20210901T133000
DTSTAMP:20210228T161045
CREATED:20210221T233159Z
LAST-MODIFIED:20210228T022807Z
UID:19103-1630494000-1630503000@www.currumbinrsl.com.au
SUMMARY:Wednesday BINGO at Currumbin RSL
DESCRIPTION:BINGO at Currumbin RSL.\nWe now have three sessions: \n1. Monday eyes down at 11am\n2. Tuesday eyes down at 7pm\n3. Wednesday eyes down at 11am \nFor more information and current jackpots head to our website.
URL:https://www.currumbinrsl.com.au/event/wednesday-bingo-at-currumbin-rsl-22/
ATTACH;FMTTYPE=image/jpeg:https://www.currumbinrsl.com.au/wp-content/uploads/2021/02/19085_image_152843944_5162072853835318_1686135413566719692_o.jpg
END:VEVENT
BEGIN:VEVENT
DTSTART;TZID=Australia/Brisbane:20210825T110000
DTEND;TZID=Australia/Brisbane:20210825T133000
DTSTAMP:20210228T161045
CREATED:20210221T233159Z
LAST-MODIFIED:20210228T022807Z
UID:19104-1629889200-1629898200@www.currumbinrsl.com.au
SUMMARY:Wednesday BINGO at Currumbin RSL
DESCRIPTION:BINGO at Currumbin RSL.\nWe now have three sessions: \n1. Monday eyes down at 11am\n2. Tuesday eyes down at 7pm\n3. Wednesday eyes down at 11am \nFor more information and current jackpots head to our website.
URL:https://www.currumbinrsl.com.au/event/wednesday-bingo-at-currumbin-rsl-23/
ATTACH;FMTTYPE=image/jpeg:https://www.currumbinrsl.com.au/wp-content/uploads/2021/02/19085_image_152843944_5162072853835318_1686135413566719692_o.jpg
END:VEVENT
BEGIN:VEVENT
DTSTART;TZID=Australia/Brisbane:20210818T110000
DTEND;TZID=Australia/Brisbane:20210818T133000
DTSTAMP:20210228T161045
CREATED:20210221T233159Z
LAST-MODIFIED:20210228T022807Z
UID:19105-1629284400-1629293400@www.currumbinrsl.com.au
SUMMARY:Wednesday BINGO at Currumbin RSL
DESCRIPTION:BINGO at Currumbin RSL.\nWe now have three sessions: \n1. Monday eyes down at 11am\n2. Tuesday eyes down at 7pm\n3. Wednesday eyes down at 11am \nFor more information and current jackpots head to our website.
URL:https://www.currumbinrsl.com.au/event/wednesday-bingo-at-currumbin-rsl-24/
ATTACH;FMTTYPE=image/jpeg:https://www.currumbinrsl.com.au/wp-content/uploads/2021/02/19085_image_152843944_5162072853835318_1686135413566719692_o.jpg
END:VEVENT
BEGIN:VEVENT
DTSTART;TZID=Australia/Brisbane:20210811T110000
DTEND;TZID=Australia/Brisbane:20210811T133000
DTSTAMP:20210228T161045
CREATED:20210221T233159Z
LAST-MODIFIED:20210228T022807Z
UID:19106-1628679600-1628688600@www.currumbinrsl.com.au
SUMMARY:Wednesday BINGO at Currumbin RSL
DESCRIPTION:BINGO at Currumbin RSL.\nWe now have three sessions: \n1. Monday eyes down at 11am\n2. Tuesday eyes down at 7pm\n3. Wednesday eyes down at 11am \nFor more information and current jackpots head to our website.
URL:https://www.currumbinrsl.com.au/event/wednesday-bingo-at-currumbin-rsl-25/
ATTACH;FMTTYPE=image/jpeg:https://www.currumbinrsl.com.au/wp-content/uploads/2021/02/19085_image_152843944_5162072853835318_1686135413566719692_o.jpg
END:VEVENT
BEGIN:VEVENT
DTSTART;TZID=Australia/Brisbane:20210804T110000
DTEND;TZID=Australia/Brisbane:20210804T133000
DTSTAMP:20210228T161045
CREATED:20210221T233200Z
LAST-MODIFIED:20210228T022807Z
UID:19107-1628074800-1628083800@www.currumbinrsl.com.au
SUMMARY:Wednesday BINGO at Currumbin RSL
DESCRIPTION:BINGO at Currumbin RSL.\nWe now have three sessions: \n1. Monday eyes down at 11am\n2. Tuesday eyes down at 7pm\n3. Wednesday eyes down at 11am \nFor more information and current jackpots head to our website.
URL:https://www.currumbinrsl.com.au/event/wednesday-bingo-at-currumbin-rsl-26/
ATTACH;FMTTYPE=image/jpeg:https://www.currumbinrsl.com.au/wp-content/uploads/2021/02/19085_image_152843944_5162072853835318_1686135413566719692_o.jpg
END:VEVENT
BEGIN:VEVENT
DTSTART;TZID=Australia/Brisbane:20210728T173000
DTEND;TZID=Australia/Brisbane:20210728T190000
DTSTAMP:20210228T161045
CREATED:20201230T022632Z
LAST-MODIFIED:20210228T022809Z
UID:15673-1627493400-1627498800@www.currumbinrsl.com.au
SUMMARY:Wednesday Raffles At Currumbin RSL
DESCRIPTION:Join us every Wednesday for our Wednesday Raffles! Great prizes up for grabs each week including meat trays and vouchers.  \nTicket sales from 5:30pm with the draws from 6:30pm. \nSee you in the club.
URL:https://www.currumbinrsl.com.au/event/wednesday-raffles-at-currumbin-rsl/
LOCATION:Currumbin RSL\, 165 Duringan Street\, Currumbin\, 4223\, AU
CATEGORIES:Raffle
ATTACH;FMTTYPE=image/jpeg:https://www.currumbinrsl.com.au/wp-content/uploads/2020/12/15673_image_133278112_4923353477707258_2055852809169249752_o.jpg
END:VEVENT
BEGIN:VEVENT
DTSTART;TZID=Australia/Brisbane:20210728T110000
DTEND;TZID=Australia/Brisbane:20210728T133000
DTSTAMP:20210228T161045
CREATED:20210221T233200Z
LAST-MODIFIED:20210228T022807Z
UID:19108-1627470000-1627479000@www.currumbinrsl.com.au
SUMMARY:Wednesday BINGO at Currumbin RSL
DESCRIPTION:BINGO at Currumbin RSL.\nWe now have three sessions: \n1. Monday eyes down at 11am\n2. Tuesday eyes down at 7pm\n3. Wednesday eyes down at 11am \nFor more information and current jackpots head to our website.
URL:https://www.currumbinrsl.com.au/event/wednesday-bingo-at-currumbin-rsl-27/
ATTACH;FMTTYPE=image/jpeg:https://www.currumbinrsl.com.au/wp-content/uploads/2021/02/19085_image_152843944_5162072853835318_1686135413566719692_o.jpg
END:VEVENT
BEGIN:VEVENT
DTSTART;TZID=Australia/Brisbane:20210721T173000
DTEND;TZID=Australia/Brisbane:20210721T190000
DTSTAMP:20210228T161045
CREATED:20201230T022633Z
LAST-MODIFIED:20210228T022809Z
UID:15675-1626888600-1626894000@www.currumbinrsl.com.au
SUMMARY:Wednesday Raffles At Currumbin RSL
DESCRIPTION:Join us every Wednesday for our Wednesday Raffles! Great prizes up for grabs each week including meat trays and vouchers.  \nTicket sales from 5:30pm with the draws from 6:30pm. \nSee you in the club.
URL:https://www.currumbinrsl.com.au/event/wednesday-raffles-at-currumbin-rsl-2/
LOCATION:Currumbin RSL\, 165 Duringan Street\, Currumbin\, 4223\, AU
CATEGORIES:Raffle
ATTACH;FMTTYPE=image/jpeg:https://www.currumbinrsl.com.au/wp-content/uploads/2020/12/15675_image_133278112_4923353477707258_2055852809169249752_o.jpg
END:VEVENT
BEGIN:VEVENT
DTSTART;TZID=Australia/Brisbane:20210721T110000
DTEND;TZID=Australia/Brisbane:20210721T133000
DTSTAMP:20210228T161045
CREATED:20210221T233200Z
LAST-MODIFIED:20210228T022807Z
UID:19109-1626865200-1626874200@www.currumbinrsl.com.au
SUMMARY:Wednesday BINGO at Currumbin RSL
DESCRIPTION:BINGO at Currumbin RSL.\nWe now have three sessions: \n1. Monday eyes down at 11am\n2. Tuesday eyes down at 7pm\n3. Wednesday eyes down at 11am \nFor more information and current jackpots head to our website.
URL:https://www.currumbinrsl.com.au/event/wednesday-bingo-at-currumbin-rsl-28/
ATTACH;FMTTYPE=image/jpeg:https://www.currumbinrsl.com.au/wp-content/uploads/2021/02/19085_image_152843944_5162072853835318_1686135413566719692_o.jpg
END:VEVENT
END:VCALENDAR